BEGIN:VCALENDAR
VERSION:2.0
PRODID:-//MenLiving - ECPv6.15.20//NONSGML v1.0//EN
CALSCALE:GREGORIAN
METHOD:PUBLISH
X-WR-CALNAME:MenLiving
X-ORIGINAL-URL:https://menliving.org
X-WR-CALDESC:Events for MenLiving
REFRESH-INTERVAL;VALUE=DURATION:PT1H
X-Robots-Tag:noindex
X-PUBLISHED-TTL:PT1H
BEGIN:VTIMEZONE
TZID:America/Chicago
BEGIN:DAYLIGHT
TZOFFSETFROM:-0600
TZOFFSETTO:-0500
TZNAME:CDT
DTSTART:20250309T080000
END:DAYLIGHT
BEGIN:STANDARD
TZOFFSETFROM:-0500
TZOFFSETTO:-0600
TZNAME:CST
DTSTART:20251102T070000
END:STANDARD
BEGIN:DAYLIGHT
TZOFFSETFROM:-0600
TZOFFSETTO:-0500
TZNAME:CDT
DTSTART:20260308T080000
END:DAYLIGHT
BEGIN:STANDARD
TZOFFSETFROM:-0500
TZOFFSETTO:-0600
TZNAME:CST
DTSTART:20261101T070000
END:STANDARD
BEGIN:DAYLIGHT
TZOFFSETFROM:-0600
TZOFFSETTO:-0500
TZNAME:CDT
DTSTART:20270314T080000
END:DAYLIGHT
BEGIN:STANDARD
TZOFFSETFROM:-0500
TZOFFSETTO:-0600
TZNAME:CST
DTSTART:20271107T070000
END:STANDARD
END:VTIMEZONE
BEGIN:VEVENT
DTSTART;TZID=America/Chicago:20260420T120000
DTEND;TZID=America/Chicago:20260420T130000
DTSTAMP:20260420T044636
CREATED:20251206T043636Z
LAST-MODIFIED:20251206T043636Z
UID:10002088-1776686400-1776690000@menliving.org
SUMMARY:Accountability Monday
DESCRIPTION:MenLiving’s Accountability Monday is for men committed to making personal changes and taking responsibility for their actions.
URL:https://menliving.org/event-calendar/accountability-monday-81/
LOCATION:IL
ATTACH;FMTTYPE=image/jpeg:https://menliving.org/wp-content/uploads/2025/12/70d5c60bf71f3bc7ea6787699bcf5fa7-Xx0Miz.tmp_.jpg
END:VEVENT
END:VCALENDAR