BEGIN:VCALENDAR
VERSION:2.0
PRODID:-//MenLiving - ECPv6.15.20//NONSGML v1.0//EN
CALSCALE:GREGORIAN
METHOD:PUBLISH
X-WR-CALNAME:MenLiving
X-ORIGINAL-URL:https://menliving.org
X-WR-CALDESC:Events for MenLiving
REFRESH-INTERVAL;VALUE=DURATION:PT1H
X-Robots-Tag:noindex
X-PUBLISHED-TTL:PT1H
BEGIN:VTIMEZONE
TZID:America/Chicago
BEGIN:DAYLIGHT
TZOFFSETFROM:-0600
TZOFFSETTO:-0500
TZNAME:CDT
DTSTART:20250309T080000
END:DAYLIGHT
BEGIN:STANDARD
TZOFFSETFROM:-0500
TZOFFSETTO:-0600
TZNAME:CST
DTSTART:20251102T070000
END:STANDARD
BEGIN:DAYLIGHT
TZOFFSETFROM:-0600
TZOFFSETTO:-0500
TZNAME:CDT
DTSTART:20260308T080000
END:DAYLIGHT
BEGIN:STANDARD
TZOFFSETFROM:-0500
TZOFFSETTO:-0600
TZNAME:CST
DTSTART:20261101T070000
END:STANDARD
BEGIN:DAYLIGHT
TZOFFSETFROM:-0600
TZOFFSETTO:-0500
TZNAME:CDT
DTSTART:20270314T080000
END:DAYLIGHT
BEGIN:STANDARD
TZOFFSETFROM:-0500
TZOFFSETTO:-0600
TZNAME:CST
DTSTART:20271107T070000
END:STANDARD
END:VTIMEZONE
BEGIN:VEVENT
DTSTART;TZID=America/Chicago:20260421T190000
DTEND;TZID=America/Chicago:20260421T201500
DTSTAMP:20260421T013649
CREATED:20251206T050235Z
LAST-MODIFIED:20251206T050235Z
UID:10002138-1776798000-1776802500@menliving.org
SUMMARY:Tuesday Separation and Divorce
DESCRIPTION:A virtual support group for men affected by separation or divorce. This meeting is open all men.
URL:https://menliving.org/event-calendar/tuesday-separation-and-divorce-21/
ATTACH;FMTTYPE=image/jpeg:https://menliving.org/wp-content/uploads/2025/09/2bcec657970fd30b4aed9be545abd9d4-iZpNee.tmp_.jpg
END:VEVENT
END:VCALENDAR