BEGIN:VCALENDAR
VERSION:2.0
PRODID:-//MenLiving - ECPv6.15.20//NONSGML v1.0//EN
CALSCALE:GREGORIAN
METHOD:PUBLISH
X-WR-CALNAME:MenLiving
X-ORIGINAL-URL:https://menliving.org
X-WR-CALDESC:Events for MenLiving
REFRESH-INTERVAL;VALUE=DURATION:PT1H
X-Robots-Tag:noindex
X-PUBLISHED-TTL:PT1H
BEGIN:VTIMEZONE
TZID:America/Chicago
BEGIN:DAYLIGHT
TZOFFSETFROM:-0600
TZOFFSETTO:-0500
TZNAME:CDT
DTSTART:20250309T080000
END:DAYLIGHT
BEGIN:STANDARD
TZOFFSETFROM:-0500
TZOFFSETTO:-0600
TZNAME:CST
DTSTART:20251102T070000
END:STANDARD
BEGIN:DAYLIGHT
TZOFFSETFROM:-0600
TZOFFSETTO:-0500
TZNAME:CDT
DTSTART:20260308T080000
END:DAYLIGHT
BEGIN:STANDARD
TZOFFSETFROM:-0500
TZOFFSETTO:-0600
TZNAME:CST
DTSTART:20261101T070000
END:STANDARD
BEGIN:DAYLIGHT
TZOFFSETFROM:-0600
TZOFFSETTO:-0500
TZNAME:CDT
DTSTART:20270314T080000
END:DAYLIGHT
BEGIN:STANDARD
TZOFFSETFROM:-0500
TZOFFSETTO:-0600
TZNAME:CST
DTSTART:20271107T070000
END:STANDARD
END:VTIMEZONE
BEGIN:VEVENT
DTSTART;TZID=America/Chicago:20260422T120000
DTEND;TZID=America/Chicago:20260422T130000
DTSTAMP:20260422T013738
CREATED:20251206T053849Z
LAST-MODIFIED:20251206T053849Z
UID:10002188-1776859200-1776862800@menliving.org
SUMMARY:Wednesday Drop-in
DESCRIPTION:MenLiving’s Drop-in meetings are free\, virtual weekly check-in calls for men to find connection and support.
URL:https://menliving.org/event-calendar/wednesday-drop-in-16/
LOCATION:CA
ATTACH;FMTTYPE=image/jpeg:https://menliving.org/wp-content/uploads/2025/12/fff7adc50dbfc9a72d8f1b7357850c55-8tD0Ku.tmp_.jpg
END:VEVENT
BEGIN:VEVENT
DTSTART;TZID=America/Chicago:20260422T130000
DTEND;TZID=America/Chicago:20260422T132500
DTSTAMP:20260422T013738
CREATED:20251123T165544Z
LAST-MODIFIED:20251123T170758Z
UID:10002049-1776862800-1776864300@menliving.org
SUMMARY:Hump Day meditation
DESCRIPTION:Every Wednesday\, Tony Schmidt or another mindful man will lead a brief meditation and sharing to get you over the hump.
URL:https://menliving.org/event-calendar/hump-day-meditation-37/
LOCATION:CA
CATEGORIES:Mindfulness
ATTACH;FMTTYPE=image/jpeg:https://menliving.org/wp-content/uploads/2025/08/8808cfc10e5da69acd802e9808401da5-Sw7qxr.tmp_.jpg
END:VEVENT
BEGIN:VEVENT
DTSTART;TZID=America/Chicago:20260422T190000
DTEND;TZID=America/Chicago:20260422T201500
DTSTAMP:20260422T013738
CREATED:20251208T032712Z
LAST-MODIFIED:20251208T032712Z
UID:10002478-1776884400-1776888900@menliving.org
SUMMARY:Wednesday Evening Deep Dive
DESCRIPTION:MenLiving Deep Dive meetings are topic-focused conversations that go a bit further below the surface than Drop-in meetings.
URL:https://menliving.org/event-calendar/wednesday-evening-deep-dive-17/
LOCATION:CA
ATTACH;FMTTYPE=image/jpeg:https://menliving.org/wp-content/uploads/2025/09/4bcd7409bde1cd524a92330cc9963846-4DMqa5.tmp_.jpg
END:VEVENT
END:VCALENDAR