BEGIN:VCALENDAR
VERSION:2.0
PRODID:-//MenLiving - ECPv6.15.20//NONSGML v1.0//EN
CALSCALE:GREGORIAN
METHOD:PUBLISH
X-WR-CALNAME:MenLiving
X-ORIGINAL-URL:https://menliving.org
X-WR-CALDESC:Events for MenLiving
REFRESH-INTERVAL;VALUE=DURATION:PT1H
X-Robots-Tag:noindex
X-PUBLISHED-TTL:PT1H
BEGIN:VTIMEZONE
TZID:America/Chicago
BEGIN:DAYLIGHT
TZOFFSETFROM:-0600
TZOFFSETTO:-0500
TZNAME:CDT
DTSTART:20250309T080000
END:DAYLIGHT
BEGIN:STANDARD
TZOFFSETFROM:-0500
TZOFFSETTO:-0600
TZNAME:CST
DTSTART:20251102T070000
END:STANDARD
BEGIN:DAYLIGHT
TZOFFSETFROM:-0600
TZOFFSETTO:-0500
TZNAME:CDT
DTSTART:20260308T080000
END:DAYLIGHT
BEGIN:STANDARD
TZOFFSETFROM:-0500
TZOFFSETTO:-0600
TZNAME:CST
DTSTART:20261101T070000
END:STANDARD
BEGIN:DAYLIGHT
TZOFFSETFROM:-0600
TZOFFSETTO:-0500
TZNAME:CDT
DTSTART:20270314T080000
END:DAYLIGHT
BEGIN:STANDARD
TZOFFSETFROM:-0500
TZOFFSETTO:-0600
TZNAME:CST
DTSTART:20271107T070000
END:STANDARD
END:VTIMEZONE
BEGIN:VEVENT
DTSTART;TZID=America/Chicago:20260423T090000
DTEND;TZID=America/Chicago:20260423T101500
DTSTAMP:20260423T014657
CREATED:20251208T030935Z
LAST-MODIFIED:20251208T041250Z
UID:10002382-1776934800-1776939300@menliving.org
SUMMARY:Thursday Morning Drop-in
DESCRIPTION:MenLiving’s Drop-in meetings are free\, virtual weekly check-in calls for men to find connection and support.
URL:https://menliving.org/event-calendar/thursday-morning-drop-in-67/
LOCATION:CA
ATTACH;FMTTYPE=image/jpeg:https://menliving.org/wp-content/uploads/2025/09/4bcd7409bde1cd524a92330cc9963846-4DMqa5.tmp_.jpg
END:VEVENT
BEGIN:VEVENT
DTSTART;TZID=America/Chicago:20260423T190000
DTEND;TZID=America/Chicago:20260423T210000
DTSTAMP:20260423T014657
CREATED:20260123T042329Z
LAST-MODIFIED:20260320T174256Z
UID:10002572-1776970800-1776978000@menliving.org
SUMMARY:Elmhurst In-Person Chapter Meeting
DESCRIPTION:MenLiving was created to support one another – that’s why we’re here.
URL:https://menliving.org/event-calendar/elmhurst-in-person-chapter-meeting-26/
LOCATION:Community Bank Of Elmhurst – Butterfield Rd\, 330 West Butterfield Road\, 2nd Floor\, Elmhurst\, IL\, 60126\, United States
ATTACH;FMTTYPE=image/jpeg:https://menliving.org/wp-content/uploads/2025/08/ae1b9398387bc173e475c53302c7b9ab-wuO4Tu.tmp_.jpg
END:VEVENT
END:VCALENDAR